BEGIN:VCALENDAR
VERSION:2.0
PRODID:-//Squarespace Inc/Squarespace 6//v6//EN
BEGIN:VEVENT
UID:5fcecec10ff3944fc547e9ae@squarespace.com
DTSTAMP:20210107T024657Z
DTSTART:20210206T010000Z
DTEND:20210206T060000Z
SUMMARY:Brewtown’s Summer Meltdown 2021
GEO:-41.129182;175.067417
LOCATION:Brewtown\, 27 Blenheim Street\, Upper Hutt\, Wellington\, 5018\, N
 ew Zealand
END:VEVENT
END:VCALENDAR
