BEGIN:VCALENDAR
VERSION:2.0
PRODID:-//Squarespace Inc/Squarespace 6//v6//EN
BEGIN:VEVENT
UID:5f83bdebf2adc66c16b16c6c@squarespace.com
DTSTAMP:20201020T205626Z
DTSTART:20210312T210000Z
DTEND:20210313T050000Z
SUMMARY:Parapine BBQ &amp\; Beer Fest
GEO:-41.129182;175.067417
LOCATION:Brewtown\, 27 Blenheim Street\, Upper Hutt\, Wellington\, 5018\, N
 ew Zealand
END:VEVENT
END:VCALENDAR
