BEGIN:VCALENDAR
VERSION:2.0
PRODID:-//Squarespace Inc/Squarespace 6//v6//EN
BEGIN:VEVENT
UID:5d9568c7e83e93638aae7269@squarespace.com
DTSTAMP:20191003T033327Z
DTSTART:20191025T230000Z
DTEND:20191026T050000Z
SUMMARY:Oktoberfest
GEO:-41.129182;175.067417
LOCATION:Brewtown\, 27 Blenheim Street\, Upper Hutt\, New Zealand
END:VEVENT
END:VCALENDAR
