BEGIN:VCALENDAR
VERSION:2.0
PRODID:-//Squarespace Inc/Squarespace 6//v6//EN
BEGIN:VEVENT
UID:5f038ad5abdafe1f6886b16f@squarespace.com
DTSTAMP:20201012T022033Z
DTSTART:20201030T223000Z
DTEND:20201031T053000Z
SUMMARY:BrewDay 2020
GEO:-41.128931;175.067159
LOCATION:Brewtown\, 23 Blenheim Street\, Upper Hutt\, Wellington\, 5018\, N
 ew Zealand
END:VEVENT
END:VCALENDAR
