BEGIN:VCALENDAR
VERSION:2.0
PRODID:-//Squarespace Inc/Squarespace 6//v6//EN
BEGIN:VEVENT
UID:5d9568c7e83e93638aae7269@squarespace.com
DTSTAMP:20201021T020306Z
DTSTART:20200313T210000Z
DTEND:20200314T040000Z
SUMMARY:BBQ &amp\; Beer Fest - BBQ Team Registrations 
GEO:-41.129338;175.068788
LOCATION:Brewtown Upper Hutt\, 25 Blenheim Street\, Upper Hutt\, Wellington
 \, 5018\, New Zealand
END:VEVENT
END:VCALENDAR
