BEGIN:VCALENDAR
VERSION:2.0
PRODID:-//Squarespace Inc/Squarespace 6//v6//EN
BEGIN:VEVENT
UID:5f8f91236239e53ac2d365a6@squarespace.com
DTSTAMP:20201021T021522Z
DTSTART:20210312T210000Z
DTEND:20210313T050000Z
SUMMARY:Parapine BBQ &amp\; Beer Fest - BBQ Team Registrations
GEO:-41.129338;175.068788
LOCATION:Brewtown Upper Hutt\, 25 Blenheim Street\, Upper Hutt\, Wellington
 \, 5018\, New Zealand
END:VEVENT
END:VCALENDAR
