BEGIN:VCALENDAR
VERSION:2.0
PRODID:-//Squarespace Inc/Squarespace 6//v6//EN
BEGIN:VEVENT
UID:5e39e6105c2984282ad16def@squarespace.com
DTSTAMP:20201021T013126Z
DTSTART:20200313T210000Z
DTEND:20200314T043000Z
SUMMARY:BBQ &amp\; BEER FEST 
GEO:-41.129338;175.068788
LOCATION:Brewtown Upper Hutt\, 25 Blenheim Street\, Upper Hutt\, Wellington
 \, 5018\, New Zealand
END:VEVENT
END:VCALENDAR
