BEGIN:VCALENDAR
VERSION:2.0
PRODID:-//Squarespace Inc/Squarespace 6//v6//EN
BEGIN:VEVENT
UID:5f83bb7a32d45901b8b21d67@squarespace.com
DTSTAMP:20201021T024934Z
DTSTART:20210305T230000Z
DTEND:20210306T050000Z
SUMMARY:Alliance Fire and Security Battle at Brewtown - Corporate boxing ev
 ent
GEO:-41.129182;175.067417
LOCATION:Brewtown\, 27 Blenheim Street\, Upper Hutt\, Wellington\, 5018\, N
 ew Zealand
END:VEVENT
END:VCALENDAR
